BEGIN:VCALENDAR
VERSION:2.0
PRODID:-//Kids Events in the Green Bay Area - ECPv6.8.0//NONSGML v1.0//EN
CALSCALE:GREGORIAN
METHOD:PUBLISH
X-WR-CALNAME:Kids Events in the Green Bay Area
X-ORIGINAL-URL:https://letsgomommy.com
X-WR-CALDESC:Events for Kids Events in the Green Bay Area
REFRESH-INTERVAL;VALUE=DURATION:PT1H
X-Robots-Tag:noindex
X-PUBLISHED-TTL:PT1H
BEGIN:VTIMEZONE
TZID:America/Chicago
BEGIN:DAYLIGHT
TZOFFSETFROM:-0600
TZOFFSETTO:-0500
TZNAME:CDT
DTSTART:20260308T080000
END:DAYLIGHT
BEGIN:STANDARD
TZOFFSETFROM:-0500
TZOFFSETTO:-0600
TZNAME:CST
DTSTART:20261101T070000
END:STANDARD
END:VTIMEZONE
BEGIN:VEVENT
DTSTART;TZID=America/Chicago:20260422T100000
DTEND;TZID=America/Chicago:20260422T103000
DTSTAMP:20260420T054929
CREATED:20260125T235255Z
LAST-MODIFIED:20260125T235309Z
UID:10070734-1776852000-1776853800@letsgomommy.com
SUMMARY:School House Storytime
DESCRIPTION:Storytime for all ages including stories\, songs\, finger plays and a craft! Stay afterwards and shop/explore/play with all the fun stuff at the School House! \nEvery Wednesday at 10:00 am during the school year\, School House offers a FREE Story Time for all ages. \nSaturday’s during the school year*\, we have a FREE school age craft activity. Click HERE to find out more information on these events. \n(*Saturday Activities recess for the month of December for holiday shopping.)
URL:https://letsgomommy.com/event/school-house-storytime-4/2026-04-22/
LOCATION:The Schoolhouse\, 770 Willard Dr\, Green Bay\, WI\, 54304\, United States
CATEGORIES:Weekly
END:VEVENT
BEGIN:VEVENT
DTSTART;TZID=America/Chicago:20260425T110000
DTEND;TZID=America/Chicago:20260425T140000
DTSTAMP:20260420T054929
CREATED:20260125T235918Z
LAST-MODIFIED:20260125T235931Z
UID:10070770-1777114800-1777125600@letsgomommy.com
SUMMARY:School House FREE Activity Time
DESCRIPTION:Saturday’s during the school year*\, we have a FREE school age craft activity. Click HERE to find out more information on these events. \n(*Saturday Activities recess for the month of December for holiday shopping.) \nFree Activity! Drop in anytime between 11-2 and create something special — perfect for kids and families to enjoy together!
URL:https://letsgomommy.com/event/school-house-free-activity-time/2026-04-25/
LOCATION:The Schoolhouse\, 770 Willard Dr\, Green Bay\, WI\, 54304\, United States
CATEGORIES:Weekly
END:VEVENT
BEGIN:VEVENT
DTSTART;TZID=America/Chicago:20260429T100000
DTEND;TZID=America/Chicago:20260429T103000
DTSTAMP:20260420T054929
CREATED:20260125T235255Z
LAST-MODIFIED:20260125T235309Z
UID:10070735-1777456800-1777458600@letsgomommy.com
SUMMARY:School House Storytime
DESCRIPTION:Storytime for all ages including stories\, songs\, finger plays and a craft! Stay afterwards and shop/explore/play with all the fun stuff at the School House! \nEvery Wednesday at 10:00 am during the school year\, School House offers a FREE Story Time for all ages. \nSaturday’s during the school year*\, we have a FREE school age craft activity. Click HERE to find out more information on these events. \n(*Saturday Activities recess for the month of December for holiday shopping.)
URL:https://letsgomommy.com/event/school-house-storytime-4/2026-04-29/
LOCATION:The Schoolhouse\, 770 Willard Dr\, Green Bay\, WI\, 54304\, United States
CATEGORIES:Weekly
END:VEVENT
BEGIN:VEVENT
DTSTART;TZID=America/Chicago:20260502T110000
DTEND;TZID=America/Chicago:20260502T140000
DTSTAMP:20260420T054929
CREATED:20260125T235918Z
LAST-MODIFIED:20260125T235931Z
UID:10070771-1777719600-1777730400@letsgomommy.com
SUMMARY:School House FREE Activity Time
DESCRIPTION:Saturday’s during the school year*\, we have a FREE school age craft activity. Click HERE to find out more information on these events. \n(*Saturday Activities recess for the month of December for holiday shopping.) \nFree Activity! Drop in anytime between 11-2 and create something special — perfect for kids and families to enjoy together!
URL:https://letsgomommy.com/event/school-house-free-activity-time/2026-05-02/
LOCATION:The Schoolhouse\, 770 Willard Dr\, Green Bay\, WI\, 54304\, United States
CATEGORIES:Weekly
END:VEVENT
BEGIN:VEVENT
DTSTART;TZID=America/Chicago:20260506T100000
DTEND;TZID=America/Chicago:20260506T103000
DTSTAMP:20260420T054929
CREATED:20260125T235255Z
LAST-MODIFIED:20260125T235309Z
UID:10070736-1778061600-1778063400@letsgomommy.com
SUMMARY:School House Storytime
DESCRIPTION:Storytime for all ages including stories\, songs\, finger plays and a craft! Stay afterwards and shop/explore/play with all the fun stuff at the School House! \nEvery Wednesday at 10:00 am during the school year\, School House offers a FREE Story Time for all ages. \nSaturday’s during the school year*\, we have a FREE school age craft activity. Click HERE to find out more information on these events. \n(*Saturday Activities recess for the month of December for holiday shopping.)
URL:https://letsgomommy.com/event/school-house-storytime-4/2026-05-06/
LOCATION:The Schoolhouse\, 770 Willard Dr\, Green Bay\, WI\, 54304\, United States
CATEGORIES:Weekly
END:VEVENT
BEGIN:VEVENT
DTSTART;TZID=America/Chicago:20260509T110000
DTEND;TZID=America/Chicago:20260509T140000
DTSTAMP:20260420T054929
CREATED:20260125T235918Z
LAST-MODIFIED:20260125T235931Z
UID:10070772-1778324400-1778335200@letsgomommy.com
SUMMARY:School House FREE Activity Time
DESCRIPTION:Saturday’s during the school year*\, we have a FREE school age craft activity. Click HERE to find out more information on these events. \n(*Saturday Activities recess for the month of December for holiday shopping.) \nFree Activity! Drop in anytime between 11-2 and create something special — perfect for kids and families to enjoy together!
URL:https://letsgomommy.com/event/school-house-free-activity-time/2026-05-09/
LOCATION:The Schoolhouse\, 770 Willard Dr\, Green Bay\, WI\, 54304\, United States
CATEGORIES:Weekly
END:VEVENT
BEGIN:VEVENT
DTSTART;TZID=America/Chicago:20260513T100000
DTEND;TZID=America/Chicago:20260513T103000
DTSTAMP:20260420T054929
CREATED:20260125T235255Z
LAST-MODIFIED:20260125T235309Z
UID:10070737-1778666400-1778668200@letsgomommy.com
SUMMARY:School House Storytime
DESCRIPTION:Storytime for all ages including stories\, songs\, finger plays and a craft! Stay afterwards and shop/explore/play with all the fun stuff at the School House! \nEvery Wednesday at 10:00 am during the school year\, School House offers a FREE Story Time for all ages. \nSaturday’s during the school year*\, we have a FREE school age craft activity. Click HERE to find out more information on these events. \n(*Saturday Activities recess for the month of December for holiday shopping.)
URL:https://letsgomommy.com/event/school-house-storytime-4/2026-05-13/
LOCATION:The Schoolhouse\, 770 Willard Dr\, Green Bay\, WI\, 54304\, United States
CATEGORIES:Weekly
END:VEVENT
BEGIN:VEVENT
DTSTART;TZID=America/Chicago:20260516T110000
DTEND;TZID=America/Chicago:20260516T140000
DTSTAMP:20260420T054929
CREATED:20260125T235918Z
LAST-MODIFIED:20260125T235931Z
UID:10070773-1778929200-1778940000@letsgomommy.com
SUMMARY:School House FREE Activity Time
DESCRIPTION:Saturday’s during the school year*\, we have a FREE school age craft activity. Click HERE to find out more information on these events. \n(*Saturday Activities recess for the month of December for holiday shopping.) \nFree Activity! Drop in anytime between 11-2 and create something special — perfect for kids and families to enjoy together!
URL:https://letsgomommy.com/event/school-house-free-activity-time/2026-05-16/
LOCATION:The Schoolhouse\, 770 Willard Dr\, Green Bay\, WI\, 54304\, United States
CATEGORIES:Weekly
END:VEVENT
BEGIN:VEVENT
DTSTART;TZID=America/Chicago:20260520T100000
DTEND;TZID=America/Chicago:20260520T103000
DTSTAMP:20260420T054929
CREATED:20260125T235255Z
LAST-MODIFIED:20260125T235309Z
UID:10070738-1779271200-1779273000@letsgomommy.com
SUMMARY:School House Storytime
DESCRIPTION:Storytime for all ages including stories\, songs\, finger plays and a craft! Stay afterwards and shop/explore/play with all the fun stuff at the School House! \nEvery Wednesday at 10:00 am during the school year\, School House offers a FREE Story Time for all ages. \nSaturday’s during the school year*\, we have a FREE school age craft activity. Click HERE to find out more information on these events. \n(*Saturday Activities recess for the month of December for holiday shopping.)
URL:https://letsgomommy.com/event/school-house-storytime-4/2026-05-20/
LOCATION:The Schoolhouse\, 770 Willard Dr\, Green Bay\, WI\, 54304\, United States
CATEGORIES:Weekly
END:VEVENT
BEGIN:VEVENT
DTSTART;TZID=America/Chicago:20260523T110000
DTEND;TZID=America/Chicago:20260523T140000
DTSTAMP:20260420T054929
CREATED:20260125T235918Z
LAST-MODIFIED:20260125T235931Z
UID:10070774-1779534000-1779544800@letsgomommy.com
SUMMARY:School House FREE Activity Time
DESCRIPTION:Saturday’s during the school year*\, we have a FREE school age craft activity. Click HERE to find out more information on these events. \n(*Saturday Activities recess for the month of December for holiday shopping.) \nFree Activity! Drop in anytime between 11-2 and create something special — perfect for kids and families to enjoy together!
URL:https://letsgomommy.com/event/school-house-free-activity-time/2026-05-23/
LOCATION:The Schoolhouse\, 770 Willard Dr\, Green Bay\, WI\, 54304\, United States
CATEGORIES:Weekly
END:VEVENT
BEGIN:VEVENT
DTSTART;TZID=America/Chicago:20260527T100000
DTEND;TZID=America/Chicago:20260527T103000
DTSTAMP:20260420T054929
CREATED:20260125T235255Z
LAST-MODIFIED:20260125T235309Z
UID:10070739-1779876000-1779877800@letsgomommy.com
SUMMARY:School House Storytime
DESCRIPTION:Storytime for all ages including stories\, songs\, finger plays and a craft! Stay afterwards and shop/explore/play with all the fun stuff at the School House! \nEvery Wednesday at 10:00 am during the school year\, School House offers a FREE Story Time for all ages. \nSaturday’s during the school year*\, we have a FREE school age craft activity. Click HERE to find out more information on these events. \n(*Saturday Activities recess for the month of December for holiday shopping.)
URL:https://letsgomommy.com/event/school-house-storytime-4/2026-05-27/
LOCATION:The Schoolhouse\, 770 Willard Dr\, Green Bay\, WI\, 54304\, United States
CATEGORIES:Weekly
END:VEVENT
BEGIN:VEVENT
DTSTART;TZID=America/Chicago:20260530T110000
DTEND;TZID=America/Chicago:20260530T140000
DTSTAMP:20260420T054929
CREATED:20260125T235918Z
LAST-MODIFIED:20260125T235931Z
UID:10070775-1780138800-1780149600@letsgomommy.com
SUMMARY:School House FREE Activity Time
DESCRIPTION:Saturday’s during the school year*\, we have a FREE school age craft activity. Click HERE to find out more information on these events. \n(*Saturday Activities recess for the month of December for holiday shopping.) \nFree Activity! Drop in anytime between 11-2 and create something special — perfect for kids and families to enjoy together!
URL:https://letsgomommy.com/event/school-house-free-activity-time/2026-05-30/
LOCATION:The Schoolhouse\, 770 Willard Dr\, Green Bay\, WI\, 54304\, United States
CATEGORIES:Weekly
END:VEVENT
END:VCALENDAR