BEGIN:VCALENDAR
VERSION:2.0
PRODID:-//Kids Events in the Green Bay Area - ECPv6.8.0//NONSGML v1.0//EN
CALSCALE:GREGORIAN
METHOD:PUBLISH
X-ORIGINAL-URL:https://letsgomommy.com
X-WR-CALDESC:Events for Kids Events in the Green Bay Area
REFRESH-INTERVAL;VALUE=DURATION:PT1H
X-Robots-Tag:noindex
X-PUBLISHED-TTL:PT1H
BEGIN:VTIMEZONE
TZID:America/Chicago
BEGIN:DAYLIGHT
TZOFFSETFROM:-0600
TZOFFSETTO:-0500
TZNAME:CDT
DTSTART:20240310T080000
END:DAYLIGHT
BEGIN:STANDARD
TZOFFSETFROM:-0500
TZOFFSETTO:-0600
TZNAME:CST
DTSTART:20241103T070000
END:STANDARD
BEGIN:DAYLIGHT
TZOFFSETFROM:-0600
TZOFFSETTO:-0500
TZNAME:CDT
DTSTART:20250309T080000
END:DAYLIGHT
BEGIN:STANDARD
TZOFFSETFROM:-0500
TZOFFSETTO:-0600
TZNAME:CST
DTSTART:20251102T070000
END:STANDARD
END:VTIMEZONE
BEGIN:VEVENT
DTSTART;TZID=America/Chicago:20250405T100000
DTEND;TZID=America/Chicago:20250405T120000
DTSTAMP:20260420T093827
CREATED:20250221T215222Z
LAST-MODIFIED:20250221T215222Z
UID:10053816-1743847200-1743854400@letsgomommy.com
SUMMARY:Easter Eggstravaganza @ Green Bay Elite
DESCRIPTION:Celebrate spring with us at our Easter Extravaganza for just $25 per family! Enjoy a day packed with fun\, including:\nOpen gym time with inflatables!Creative Easter crafts!An exciting egg hunt with prizes!Photos with the Easter Bunny \nDon’t miss out on this super fun family event! Register today (only one registration required per family)!https://portal.iclasspro.com/greenbayelitesports/camps/2?sortBy=name
URL:https://letsgomommy.com/event/easter-eggstravaganza-green-bay-elite/
LOCATION:Green Bay Elite\, 1194 O'Hare Blvd\, De Pere\, WI\, 54115\, United States
CATEGORIES:Special
GEO:44.452468;-88.1331244
X-APPLE-STRUCTURED-LOCATION;VALUE=URI;X-ADDRESS=Green Bay Elite 1194 O'Hare Blvd De Pere WI 54115 United States;X-APPLE-RADIUS=500;X-TITLE=1194 O'Hare Blvd:geo:-88.1331244,44.452468
END:VEVENT
BEGIN:VEVENT
DTSTART;TZID=America/Chicago:20250228T173000
DTEND;TZID=America/Chicago:20250228T193000
DTSTAMP:20260420T093827
CREATED:20250221T215823Z
LAST-MODIFIED:20250221T215823Z
UID:10053819-1740763800-1740771000@letsgomommy.com
SUMMARY:Friday Family Night @ GBE
DESCRIPTION:Come join us for our Friday Family Night! We’re thrilled to open our gym for two hours\, inviting kids aged 18 and under to come run\, jump\, and play while spending quality time with their parents or guardians.Get ready to have a blast on our trampolines\, in the foam pit\, and with our fantastic toys\, bounce houses\, tumble track\, and so much more!This is a great opportunity to escape the cold\, have fun\, and make new friends! We’ll also have delicious concessions available\, including pizza\, snacks\, and drinks for purchase.Be sure to register early through our online portal to skip the payment line at check-in.Don’t forget\, a parent or guardian is required to stay\, and our friendly staff will be there to ensure you have a great time!We can’t wait to see you on February 28!
URL:https://letsgomommy.com/event/friday-family-night-gbe/
LOCATION:Green Bay Elite\, 1194 O'Hare Blvd\, De Pere\, WI\, 54115\, United States
CATEGORIES:Special
GEO:44.452468;-88.1331244
X-APPLE-STRUCTURED-LOCATION;VALUE=URI;X-ADDRESS=Green Bay Elite 1194 O'Hare Blvd De Pere WI 54115 United States;X-APPLE-RADIUS=500;X-TITLE=1194 O'Hare Blvd:geo:-88.1331244,44.452468
END:VEVENT
BEGIN:VEVENT
DTSTART;TZID=America/Chicago:20240524T090000
DTEND;TZID=America/Chicago:20240524T103000
DTSTAMP:20260420T093827
CREATED:20240207T224158Z
LAST-MODIFIED:20240207T224202Z
UID:10036712-1716541200-1716546600@letsgomommy.com
SUMMARY:Playdate @ Green Bay Elite
DESCRIPTION:Join us on Tuesday & Friday mornings from 9-10:30 for the kids to play and moms to get out of the house and be around other grown-ups! Kids can enjoy: \nTrampoline\nTumble track\nSpring floors\nRide on toys\nFoam pit\n& so much more!!! \n 
URL:https://letsgomommy.com/event/playdate-green-bay-elite-3/2024-05-24/
LOCATION:Green Bay Elite\, 1194 O'Hare Blvd\, De Pere\, WI\, 54115\, United States
GEO:44.452468;-88.1331244
X-APPLE-STRUCTURED-LOCATION;VALUE=URI;X-ADDRESS=Green Bay Elite 1194 O'Hare Blvd De Pere WI 54115 United States;X-APPLE-RADIUS=500;X-TITLE=1194 O'Hare Blvd:geo:-88.1331244,44.452468
END:VEVENT
BEGIN:VEVENT
DTSTART;TZID=America/Chicago:20240521T090000
DTEND;TZID=America/Chicago:20240521T103000
DTSTAMP:20260420T093827
CREATED:20240207T224158Z
LAST-MODIFIED:20240207T224202Z
UID:10036711-1716282000-1716287400@letsgomommy.com
SUMMARY:Playdate @ Green Bay Elite
DESCRIPTION:Join us on Tuesday & Friday mornings from 9-10:30 for the kids to play and moms to get out of the house and be around other grown-ups! Kids can enjoy: \nTrampoline\nTumble track\nSpring floors\nRide on toys\nFoam pit\n& so much more!!! \n 
URL:https://letsgomommy.com/event/playdate-green-bay-elite-3/2024-05-21/
LOCATION:Green Bay Elite\, 1194 O'Hare Blvd\, De Pere\, WI\, 54115\, United States
GEO:44.452468;-88.1331244
X-APPLE-STRUCTURED-LOCATION;VALUE=URI;X-ADDRESS=Green Bay Elite 1194 O'Hare Blvd De Pere WI 54115 United States;X-APPLE-RADIUS=500;X-TITLE=1194 O'Hare Blvd:geo:-88.1331244,44.452468
END:VEVENT
BEGIN:VEVENT
DTSTART;TZID=America/Chicago:20240517T090000
DTEND;TZID=America/Chicago:20240517T103000
DTSTAMP:20260420T093827
CREATED:20240207T224158Z
LAST-MODIFIED:20240207T224202Z
UID:10036710-1715936400-1715941800@letsgomommy.com
SUMMARY:Playdate @ Green Bay Elite
DESCRIPTION:Join us on Tuesday & Friday mornings from 9-10:30 for the kids to play and moms to get out of the house and be around other grown-ups! Kids can enjoy: \nTrampoline\nTumble track\nSpring floors\nRide on toys\nFoam pit\n& so much more!!! \n 
URL:https://letsgomommy.com/event/playdate-green-bay-elite-3/2024-05-17/
LOCATION:Green Bay Elite\, 1194 O'Hare Blvd\, De Pere\, WI\, 54115\, United States
GEO:44.452468;-88.1331244
X-APPLE-STRUCTURED-LOCATION;VALUE=URI;X-ADDRESS=Green Bay Elite 1194 O'Hare Blvd De Pere WI 54115 United States;X-APPLE-RADIUS=500;X-TITLE=1194 O'Hare Blvd:geo:-88.1331244,44.452468
END:VEVENT
BEGIN:VEVENT
DTSTART;TZID=America/Chicago:20240514T090000
DTEND;TZID=America/Chicago:20240514T103000
DTSTAMP:20260420T093827
CREATED:20240207T224158Z
LAST-MODIFIED:20240207T224202Z
UID:10036709-1715677200-1715682600@letsgomommy.com
SUMMARY:Playdate @ Green Bay Elite
DESCRIPTION:Join us on Tuesday & Friday mornings from 9-10:30 for the kids to play and moms to get out of the house and be around other grown-ups! Kids can enjoy: \nTrampoline\nTumble track\nSpring floors\nRide on toys\nFoam pit\n& so much more!!! \n 
URL:https://letsgomommy.com/event/playdate-green-bay-elite-3/2024-05-14/
LOCATION:Green Bay Elite\, 1194 O'Hare Blvd\, De Pere\, WI\, 54115\, United States
GEO:44.452468;-88.1331244
X-APPLE-STRUCTURED-LOCATION;VALUE=URI;X-ADDRESS=Green Bay Elite 1194 O'Hare Blvd De Pere WI 54115 United States;X-APPLE-RADIUS=500;X-TITLE=1194 O'Hare Blvd:geo:-88.1331244,44.452468
END:VEVENT
BEGIN:VEVENT
DTSTART;TZID=America/Chicago:20240510T090000
DTEND;TZID=America/Chicago:20240510T103000
DTSTAMP:20260420T093827
CREATED:20240207T224158Z
LAST-MODIFIED:20240207T224202Z
UID:10036708-1715331600-1715337000@letsgomommy.com
SUMMARY:Playdate @ Green Bay Elite
DESCRIPTION:Join us on Tuesday & Friday mornings from 9-10:30 for the kids to play and moms to get out of the house and be around other grown-ups! Kids can enjoy: \nTrampoline\nTumble track\nSpring floors\nRide on toys\nFoam pit\n& so much more!!! \n 
URL:https://letsgomommy.com/event/playdate-green-bay-elite-3/2024-05-10/
LOCATION:Green Bay Elite\, 1194 O'Hare Blvd\, De Pere\, WI\, 54115\, United States
GEO:44.452468;-88.1331244
X-APPLE-STRUCTURED-LOCATION;VALUE=URI;X-ADDRESS=Green Bay Elite 1194 O'Hare Blvd De Pere WI 54115 United States;X-APPLE-RADIUS=500;X-TITLE=1194 O'Hare Blvd:geo:-88.1331244,44.452468
END:VEVENT
BEGIN:VEVENT
DTSTART;TZID=America/Chicago:20240507T090000
DTEND;TZID=America/Chicago:20240507T103000
DTSTAMP:20260420T093827
CREATED:20240207T224158Z
LAST-MODIFIED:20240207T224202Z
UID:10036707-1715072400-1715077800@letsgomommy.com
SUMMARY:Playdate @ Green Bay Elite
DESCRIPTION:Join us on Tuesday & Friday mornings from 9-10:30 for the kids to play and moms to get out of the house and be around other grown-ups! Kids can enjoy: \nTrampoline\nTumble track\nSpring floors\nRide on toys\nFoam pit\n& so much more!!! \n 
URL:https://letsgomommy.com/event/playdate-green-bay-elite-3/2024-05-07/
LOCATION:Green Bay Elite\, 1194 O'Hare Blvd\, De Pere\, WI\, 54115\, United States
GEO:44.452468;-88.1331244
X-APPLE-STRUCTURED-LOCATION;VALUE=URI;X-ADDRESS=Green Bay Elite 1194 O'Hare Blvd De Pere WI 54115 United States;X-APPLE-RADIUS=500;X-TITLE=1194 O'Hare Blvd:geo:-88.1331244,44.452468
END:VEVENT
BEGIN:VEVENT
DTSTART;TZID=America/Chicago:20240503T090000
DTEND;TZID=America/Chicago:20240503T103000
DTSTAMP:20260420T093827
CREATED:20240207T224158Z
LAST-MODIFIED:20240207T224202Z
UID:10036706-1714726800-1714732200@letsgomommy.com
SUMMARY:Playdate @ Green Bay Elite
DESCRIPTION:Join us on Tuesday & Friday mornings from 9-10:30 for the kids to play and moms to get out of the house and be around other grown-ups! Kids can enjoy: \nTrampoline\nTumble track\nSpring floors\nRide on toys\nFoam pit\n& so much more!!! \n 
URL:https://letsgomommy.com/event/playdate-green-bay-elite-3/2024-05-03/
LOCATION:Green Bay Elite\, 1194 O'Hare Blvd\, De Pere\, WI\, 54115\, United States
GEO:44.452468;-88.1331244
X-APPLE-STRUCTURED-LOCATION;VALUE=URI;X-ADDRESS=Green Bay Elite 1194 O'Hare Blvd De Pere WI 54115 United States;X-APPLE-RADIUS=500;X-TITLE=1194 O'Hare Blvd:geo:-88.1331244,44.452468
END:VEVENT
BEGIN:VEVENT
DTSTART;TZID=America/Chicago:20240430T090000
DTEND;TZID=America/Chicago:20240430T103000
DTSTAMP:20260420T093827
CREATED:20240207T224158Z
LAST-MODIFIED:20240207T224202Z
UID:10036705-1714467600-1714473000@letsgomommy.com
SUMMARY:Playdate @ Green Bay Elite
DESCRIPTION:Join us on Tuesday & Friday mornings from 9-10:30 for the kids to play and moms to get out of the house and be around other grown-ups! Kids can enjoy: \nTrampoline\nTumble track\nSpring floors\nRide on toys\nFoam pit\n& so much more!!! \n 
URL:https://letsgomommy.com/event/playdate-green-bay-elite-3/2024-04-30/
LOCATION:Green Bay Elite\, 1194 O'Hare Blvd\, De Pere\, WI\, 54115\, United States
GEO:44.452468;-88.1331244
X-APPLE-STRUCTURED-LOCATION;VALUE=URI;X-ADDRESS=Green Bay Elite 1194 O'Hare Blvd De Pere WI 54115 United States;X-APPLE-RADIUS=500;X-TITLE=1194 O'Hare Blvd:geo:-88.1331244,44.452468
END:VEVENT
BEGIN:VEVENT
DTSTART;TZID=America/Chicago:20240426T090000
DTEND;TZID=America/Chicago:20240426T103000
DTSTAMP:20260420T093827
CREATED:20240207T224158Z
LAST-MODIFIED:20240207T224202Z
UID:10036704-1714122000-1714127400@letsgomommy.com
SUMMARY:Playdate @ Green Bay Elite
DESCRIPTION:Join us on Tuesday & Friday mornings from 9-10:30 for the kids to play and moms to get out of the house and be around other grown-ups! Kids can enjoy: \nTrampoline\nTumble track\nSpring floors\nRide on toys\nFoam pit\n& so much more!!! \n 
URL:https://letsgomommy.com/event/playdate-green-bay-elite-3/2024-04-26/
LOCATION:Green Bay Elite\, 1194 O'Hare Blvd\, De Pere\, WI\, 54115\, United States
GEO:44.452468;-88.1331244
X-APPLE-STRUCTURED-LOCATION;VALUE=URI;X-ADDRESS=Green Bay Elite 1194 O'Hare Blvd De Pere WI 54115 United States;X-APPLE-RADIUS=500;X-TITLE=1194 O'Hare Blvd:geo:-88.1331244,44.452468
END:VEVENT
BEGIN:VEVENT
DTSTART;TZID=America/Chicago:20240423T090000
DTEND;TZID=America/Chicago:20240423T103000
DTSTAMP:20260420T093827
CREATED:20240207T224158Z
LAST-MODIFIED:20240207T224202Z
UID:10036703-1713862800-1713868200@letsgomommy.com
SUMMARY:Playdate @ Green Bay Elite
DESCRIPTION:Join us on Tuesday & Friday mornings from 9-10:30 for the kids to play and moms to get out of the house and be around other grown-ups! Kids can enjoy: \nTrampoline\nTumble track\nSpring floors\nRide on toys\nFoam pit\n& so much more!!! \n 
URL:https://letsgomommy.com/event/playdate-green-bay-elite-3/2024-04-23/
LOCATION:Green Bay Elite\, 1194 O'Hare Blvd\, De Pere\, WI\, 54115\, United States
GEO:44.452468;-88.1331244
X-APPLE-STRUCTURED-LOCATION;VALUE=URI;X-ADDRESS=Green Bay Elite 1194 O'Hare Blvd De Pere WI 54115 United States;X-APPLE-RADIUS=500;X-TITLE=1194 O'Hare Blvd:geo:-88.1331244,44.452468
END:VEVENT
BEGIN:VEVENT
DTSTART;TZID=America/Chicago:20240419T090000
DTEND;TZID=America/Chicago:20240419T103000
DTSTAMP:20260420T093827
CREATED:20240207T224158Z
LAST-MODIFIED:20240207T224202Z
UID:10036702-1713517200-1713522600@letsgomommy.com
SUMMARY:Playdate @ Green Bay Elite
DESCRIPTION:Join us on Tuesday & Friday mornings from 9-10:30 for the kids to play and moms to get out of the house and be around other grown-ups! Kids can enjoy: \nTrampoline\nTumble track\nSpring floors\nRide on toys\nFoam pit\n& so much more!!! \n 
URL:https://letsgomommy.com/event/playdate-green-bay-elite-3/2024-04-19/
LOCATION:Green Bay Elite\, 1194 O'Hare Blvd\, De Pere\, WI\, 54115\, United States
GEO:44.452468;-88.1331244
X-APPLE-STRUCTURED-LOCATION;VALUE=URI;X-ADDRESS=Green Bay Elite 1194 O'Hare Blvd De Pere WI 54115 United States;X-APPLE-RADIUS=500;X-TITLE=1194 O'Hare Blvd:geo:-88.1331244,44.452468
END:VEVENT
BEGIN:VEVENT
DTSTART;TZID=America/Chicago:20240416T090000
DTEND;TZID=America/Chicago:20240416T103000
DTSTAMP:20260420T093827
CREATED:20240207T224158Z
LAST-MODIFIED:20240207T224202Z
UID:10036701-1713258000-1713263400@letsgomommy.com
SUMMARY:Playdate @ Green Bay Elite
DESCRIPTION:Join us on Tuesday & Friday mornings from 9-10:30 for the kids to play and moms to get out of the house and be around other grown-ups! Kids can enjoy: \nTrampoline\nTumble track\nSpring floors\nRide on toys\nFoam pit\n& so much more!!! \n 
URL:https://letsgomommy.com/event/playdate-green-bay-elite-3/2024-04-16/
LOCATION:Green Bay Elite\, 1194 O'Hare Blvd\, De Pere\, WI\, 54115\, United States
GEO:44.452468;-88.1331244
X-APPLE-STRUCTURED-LOCATION;VALUE=URI;X-ADDRESS=Green Bay Elite 1194 O'Hare Blvd De Pere WI 54115 United States;X-APPLE-RADIUS=500;X-TITLE=1194 O'Hare Blvd:geo:-88.1331244,44.452468
END:VEVENT
BEGIN:VEVENT
DTSTART;TZID=America/Chicago:20240412T090000
DTEND;TZID=America/Chicago:20240412T103000
DTSTAMP:20260420T093828
CREATED:20240207T224158Z
LAST-MODIFIED:20240207T224202Z
UID:10036700-1712912400-1712917800@letsgomommy.com
SUMMARY:Playdate @ Green Bay Elite
DESCRIPTION:Join us on Tuesday & Friday mornings from 9-10:30 for the kids to play and moms to get out of the house and be around other grown-ups! Kids can enjoy: \nTrampoline\nTumble track\nSpring floors\nRide on toys\nFoam pit\n& so much more!!! \n 
URL:https://letsgomommy.com/event/playdate-green-bay-elite-3/2024-04-12/
LOCATION:Green Bay Elite\, 1194 O'Hare Blvd\, De Pere\, WI\, 54115\, United States
GEO:44.452468;-88.1331244
X-APPLE-STRUCTURED-LOCATION;VALUE=URI;X-ADDRESS=Green Bay Elite 1194 O'Hare Blvd De Pere WI 54115 United States;X-APPLE-RADIUS=500;X-TITLE=1194 O'Hare Blvd:geo:-88.1331244,44.452468
END:VEVENT
BEGIN:VEVENT
DTSTART;TZID=America/Chicago:20240409T090000
DTEND;TZID=America/Chicago:20240409T103000
DTSTAMP:20260420T093828
CREATED:20240207T224158Z
LAST-MODIFIED:20240207T224202Z
UID:10036699-1712653200-1712658600@letsgomommy.com
SUMMARY:Playdate @ Green Bay Elite
DESCRIPTION:Join us on Tuesday & Friday mornings from 9-10:30 for the kids to play and moms to get out of the house and be around other grown-ups! Kids can enjoy: \nTrampoline\nTumble track\nSpring floors\nRide on toys\nFoam pit\n& so much more!!! \n 
URL:https://letsgomommy.com/event/playdate-green-bay-elite-3/2024-04-09/
LOCATION:Green Bay Elite\, 1194 O'Hare Blvd\, De Pere\, WI\, 54115\, United States
GEO:44.452468;-88.1331244
X-APPLE-STRUCTURED-LOCATION;VALUE=URI;X-ADDRESS=Green Bay Elite 1194 O'Hare Blvd De Pere WI 54115 United States;X-APPLE-RADIUS=500;X-TITLE=1194 O'Hare Blvd:geo:-88.1331244,44.452468
END:VEVENT
BEGIN:VEVENT
DTSTART;TZID=America/Chicago:20240405T090000
DTEND;TZID=America/Chicago:20240405T103000
DTSTAMP:20260420T093828
CREATED:20240207T224158Z
LAST-MODIFIED:20240207T224202Z
UID:10036698-1712307600-1712313000@letsgomommy.com
SUMMARY:Playdate @ Green Bay Elite
DESCRIPTION:Join us on Tuesday & Friday mornings from 9-10:30 for the kids to play and moms to get out of the house and be around other grown-ups! Kids can enjoy: \nTrampoline\nTumble track\nSpring floors\nRide on toys\nFoam pit\n& so much more!!! \n 
URL:https://letsgomommy.com/event/playdate-green-bay-elite-3/2024-04-05/
LOCATION:Green Bay Elite\, 1194 O'Hare Blvd\, De Pere\, WI\, 54115\, United States
GEO:44.452468;-88.1331244
X-APPLE-STRUCTURED-LOCATION;VALUE=URI;X-ADDRESS=Green Bay Elite 1194 O'Hare Blvd De Pere WI 54115 United States;X-APPLE-RADIUS=500;X-TITLE=1194 O'Hare Blvd:geo:-88.1331244,44.452468
END:VEVENT
BEGIN:VEVENT
DTSTART;TZID=America/Chicago:20240402T090000
DTEND;TZID=America/Chicago:20240402T103000
DTSTAMP:20260420T093828
CREATED:20240207T224158Z
LAST-MODIFIED:20240207T224202Z
UID:10036697-1712048400-1712053800@letsgomommy.com
SUMMARY:Playdate @ Green Bay Elite
DESCRIPTION:Join us on Tuesday & Friday mornings from 9-10:30 for the kids to play and moms to get out of the house and be around other grown-ups! Kids can enjoy: \nTrampoline\nTumble track\nSpring floors\nRide on toys\nFoam pit\n& so much more!!! \n 
URL:https://letsgomommy.com/event/playdate-green-bay-elite-3/2024-04-02/
LOCATION:Green Bay Elite\, 1194 O'Hare Blvd\, De Pere\, WI\, 54115\, United States
GEO:44.452468;-88.1331244
X-APPLE-STRUCTURED-LOCATION;VALUE=URI;X-ADDRESS=Green Bay Elite 1194 O'Hare Blvd De Pere WI 54115 United States;X-APPLE-RADIUS=500;X-TITLE=1194 O'Hare Blvd:geo:-88.1331244,44.452468
END:VEVENT
BEGIN:VEVENT
DTSTART;TZID=America/Chicago:20240329T090000
DTEND;TZID=America/Chicago:20240329T103000
DTSTAMP:20260420T093828
CREATED:20240207T224158Z
LAST-MODIFIED:20240207T224202Z
UID:10036696-1711702800-1711708200@letsgomommy.com
SUMMARY:Playdate @ Green Bay Elite
DESCRIPTION:Join us on Tuesday & Friday mornings from 9-10:30 for the kids to play and moms to get out of the house and be around other grown-ups! Kids can enjoy: \nTrampoline\nTumble track\nSpring floors\nRide on toys\nFoam pit\n& so much more!!! \n 
URL:https://letsgomommy.com/event/playdate-green-bay-elite-3/2024-03-29/
LOCATION:Green Bay Elite\, 1194 O'Hare Blvd\, De Pere\, WI\, 54115\, United States
GEO:44.452468;-88.1331244
X-APPLE-STRUCTURED-LOCATION;VALUE=URI;X-ADDRESS=Green Bay Elite 1194 O'Hare Blvd De Pere WI 54115 United States;X-APPLE-RADIUS=500;X-TITLE=1194 O'Hare Blvd:geo:-88.1331244,44.452468
END:VEVENT
BEGIN:VEVENT
DTSTART;TZID=America/Chicago:20240326T090000
DTEND;TZID=America/Chicago:20240326T103000
DTSTAMP:20260420T093828
CREATED:20240207T224158Z
LAST-MODIFIED:20240207T224202Z
UID:10036695-1711443600-1711449000@letsgomommy.com
SUMMARY:Playdate @ Green Bay Elite
DESCRIPTION:Join us on Tuesday & Friday mornings from 9-10:30 for the kids to play and moms to get out of the house and be around other grown-ups! Kids can enjoy: \nTrampoline\nTumble track\nSpring floors\nRide on toys\nFoam pit\n& so much more!!! \n 
URL:https://letsgomommy.com/event/playdate-green-bay-elite-3/2024-03-26/
LOCATION:Green Bay Elite\, 1194 O'Hare Blvd\, De Pere\, WI\, 54115\, United States
GEO:44.452468;-88.1331244
X-APPLE-STRUCTURED-LOCATION;VALUE=URI;X-ADDRESS=Green Bay Elite 1194 O'Hare Blvd De Pere WI 54115 United States;X-APPLE-RADIUS=500;X-TITLE=1194 O'Hare Blvd:geo:-88.1331244,44.452468
END:VEVENT
BEGIN:VEVENT
DTSTART;TZID=America/Chicago:20240322T090000
DTEND;TZID=America/Chicago:20240322T103000
DTSTAMP:20260420T093828
CREATED:20240207T224158Z
LAST-MODIFIED:20240207T224202Z
UID:10036694-1711098000-1711103400@letsgomommy.com
SUMMARY:Playdate @ Green Bay Elite
DESCRIPTION:Join us on Tuesday & Friday mornings from 9-10:30 for the kids to play and moms to get out of the house and be around other grown-ups! Kids can enjoy: \nTrampoline\nTumble track\nSpring floors\nRide on toys\nFoam pit\n& so much more!!! \n 
URL:https://letsgomommy.com/event/playdate-green-bay-elite-3/2024-03-22/
LOCATION:Green Bay Elite\, 1194 O'Hare Blvd\, De Pere\, WI\, 54115\, United States
GEO:44.452468;-88.1331244
X-APPLE-STRUCTURED-LOCATION;VALUE=URI;X-ADDRESS=Green Bay Elite 1194 O'Hare Blvd De Pere WI 54115 United States;X-APPLE-RADIUS=500;X-TITLE=1194 O'Hare Blvd:geo:-88.1331244,44.452468
END:VEVENT
BEGIN:VEVENT
DTSTART;TZID=America/Chicago:20240319T090000
DTEND;TZID=America/Chicago:20240319T103000
DTSTAMP:20260420T093828
CREATED:20240207T224158Z
LAST-MODIFIED:20240207T224202Z
UID:10036693-1710838800-1710844200@letsgomommy.com
SUMMARY:Playdate @ Green Bay Elite
DESCRIPTION:Join us on Tuesday & Friday mornings from 9-10:30 for the kids to play and moms to get out of the house and be around other grown-ups! Kids can enjoy: \nTrampoline\nTumble track\nSpring floors\nRide on toys\nFoam pit\n& so much more!!! \n 
URL:https://letsgomommy.com/event/playdate-green-bay-elite-3/2024-03-19/
LOCATION:Green Bay Elite\, 1194 O'Hare Blvd\, De Pere\, WI\, 54115\, United States
GEO:44.452468;-88.1331244
X-APPLE-STRUCTURED-LOCATION;VALUE=URI;X-ADDRESS=Green Bay Elite 1194 O'Hare Blvd De Pere WI 54115 United States;X-APPLE-RADIUS=500;X-TITLE=1194 O'Hare Blvd:geo:-88.1331244,44.452468
END:VEVENT
BEGIN:VEVENT
DTSTART;TZID=America/Chicago:20240315T090000
DTEND;TZID=America/Chicago:20240315T103000
DTSTAMP:20260420T093828
CREATED:20240207T224158Z
LAST-MODIFIED:20240207T224202Z
UID:10036692-1710493200-1710498600@letsgomommy.com
SUMMARY:Playdate @ Green Bay Elite
DESCRIPTION:Join us on Tuesday & Friday mornings from 9-10:30 for the kids to play and moms to get out of the house and be around other grown-ups! Kids can enjoy: \nTrampoline\nTumble track\nSpring floors\nRide on toys\nFoam pit\n& so much more!!! \n 
URL:https://letsgomommy.com/event/playdate-green-bay-elite-3/2024-03-15/
LOCATION:Green Bay Elite\, 1194 O'Hare Blvd\, De Pere\, WI\, 54115\, United States
GEO:44.452468;-88.1331244
X-APPLE-STRUCTURED-LOCATION;VALUE=URI;X-ADDRESS=Green Bay Elite 1194 O'Hare Blvd De Pere WI 54115 United States;X-APPLE-RADIUS=500;X-TITLE=1194 O'Hare Blvd:geo:-88.1331244,44.452468
END:VEVENT
BEGIN:VEVENT
DTSTART;TZID=America/Chicago:20240312T090000
DTEND;TZID=America/Chicago:20240312T103000
DTSTAMP:20260420T093828
CREATED:20240207T224158Z
LAST-MODIFIED:20240207T224202Z
UID:10036691-1710234000-1710239400@letsgomommy.com
SUMMARY:Playdate @ Green Bay Elite
DESCRIPTION:Join us on Tuesday & Friday mornings from 9-10:30 for the kids to play and moms to get out of the house and be around other grown-ups! Kids can enjoy: \nTrampoline\nTumble track\nSpring floors\nRide on toys\nFoam pit\n& so much more!!! \n 
URL:https://letsgomommy.com/event/playdate-green-bay-elite-3/2024-03-12/
LOCATION:Green Bay Elite\, 1194 O'Hare Blvd\, De Pere\, WI\, 54115\, United States
GEO:44.452468;-88.1331244
X-APPLE-STRUCTURED-LOCATION;VALUE=URI;X-ADDRESS=Green Bay Elite 1194 O'Hare Blvd De Pere WI 54115 United States;X-APPLE-RADIUS=500;X-TITLE=1194 O'Hare Blvd:geo:-88.1331244,44.452468
END:VEVENT
BEGIN:VEVENT
DTSTART;TZID=America/Chicago:20240308T090000
DTEND;TZID=America/Chicago:20240308T103000
DTSTAMP:20260420T093828
CREATED:20240207T224158Z
LAST-MODIFIED:20240207T224202Z
UID:10036690-1709888400-1709893800@letsgomommy.com
SUMMARY:Playdate @ Green Bay Elite
DESCRIPTION:Join us on Tuesday & Friday mornings from 9-10:30 for the kids to play and moms to get out of the house and be around other grown-ups! Kids can enjoy: \nTrampoline\nTumble track\nSpring floors\nRide on toys\nFoam pit\n& so much more!!! \n 
URL:https://letsgomommy.com/event/playdate-green-bay-elite-3/2024-03-08/
LOCATION:Green Bay Elite\, 1194 O'Hare Blvd\, De Pere\, WI\, 54115\, United States
GEO:44.452468;-88.1331244
X-APPLE-STRUCTURED-LOCATION;VALUE=URI;X-ADDRESS=Green Bay Elite 1194 O'Hare Blvd De Pere WI 54115 United States;X-APPLE-RADIUS=500;X-TITLE=1194 O'Hare Blvd:geo:-88.1331244,44.452468
END:VEVENT
BEGIN:VEVENT
DTSTART;TZID=America/Chicago:20240305T090000
DTEND;TZID=America/Chicago:20240305T103000
DTSTAMP:20260420T093828
CREATED:20240207T224158Z
LAST-MODIFIED:20240207T224202Z
UID:10036689-1709629200-1709634600@letsgomommy.com
SUMMARY:Playdate @ Green Bay Elite
DESCRIPTION:Join us on Tuesday & Friday mornings from 9-10:30 for the kids to play and moms to get out of the house and be around other grown-ups! Kids can enjoy: \nTrampoline\nTumble track\nSpring floors\nRide on toys\nFoam pit\n& so much more!!! \n 
URL:https://letsgomommy.com/event/playdate-green-bay-elite-3/2024-03-05/
LOCATION:Green Bay Elite\, 1194 O'Hare Blvd\, De Pere\, WI\, 54115\, United States
GEO:44.452468;-88.1331244
X-APPLE-STRUCTURED-LOCATION;VALUE=URI;X-ADDRESS=Green Bay Elite 1194 O'Hare Blvd De Pere WI 54115 United States;X-APPLE-RADIUS=500;X-TITLE=1194 O'Hare Blvd:geo:-88.1331244,44.452468
END:VEVENT
BEGIN:VEVENT
DTSTART;TZID=America/Chicago:20240301T090000
DTEND;TZID=America/Chicago:20240301T103000
DTSTAMP:20260420T093828
CREATED:20240207T224158Z
LAST-MODIFIED:20240207T224202Z
UID:10036688-1709283600-1709289000@letsgomommy.com
SUMMARY:Playdate @ Green Bay Elite
DESCRIPTION:Join us on Tuesday & Friday mornings from 9-10:30 for the kids to play and moms to get out of the house and be around other grown-ups! Kids can enjoy: \nTrampoline\nTumble track\nSpring floors\nRide on toys\nFoam pit\n& so much more!!! \n 
URL:https://letsgomommy.com/event/playdate-green-bay-elite-3/2024-03-01/
LOCATION:Green Bay Elite\, 1194 O'Hare Blvd\, De Pere\, WI\, 54115\, United States
GEO:44.452468;-88.1331244
X-APPLE-STRUCTURED-LOCATION;VALUE=URI;X-ADDRESS=Green Bay Elite 1194 O'Hare Blvd De Pere WI 54115 United States;X-APPLE-RADIUS=500;X-TITLE=1194 O'Hare Blvd:geo:-88.1331244,44.452468
END:VEVENT
BEGIN:VEVENT
DTSTART;TZID=America/Chicago:20240227T090000
DTEND;TZID=America/Chicago:20240227T103000
DTSTAMP:20260420T093828
CREATED:20240207T224158Z
LAST-MODIFIED:20240207T224202Z
UID:10036687-1709024400-1709029800@letsgomommy.com
SUMMARY:Playdate @ Green Bay Elite
DESCRIPTION:Join us on Tuesday & Friday mornings from 9-10:30 for the kids to play and moms to get out of the house and be around other grown-ups! Kids can enjoy: \nTrampoline\nTumble track\nSpring floors\nRide on toys\nFoam pit\n& so much more!!! \n 
URL:https://letsgomommy.com/event/playdate-green-bay-elite-3/2024-02-27/
LOCATION:Green Bay Elite\, 1194 O'Hare Blvd\, De Pere\, WI\, 54115\, United States
GEO:44.452468;-88.1331244
X-APPLE-STRUCTURED-LOCATION;VALUE=URI;X-ADDRESS=Green Bay Elite 1194 O'Hare Blvd De Pere WI 54115 United States;X-APPLE-RADIUS=500;X-TITLE=1194 O'Hare Blvd:geo:-88.1331244,44.452468
END:VEVENT
BEGIN:VEVENT
DTSTART;TZID=America/Chicago:20240223T090000
DTEND;TZID=America/Chicago:20240223T103000
DTSTAMP:20260420T093828
CREATED:20240207T224158Z
LAST-MODIFIED:20240207T224202Z
UID:10036686-1708678800-1708684200@letsgomommy.com
SUMMARY:Playdate @ Green Bay Elite
DESCRIPTION:Join us on Tuesday & Friday mornings from 9-10:30 for the kids to play and moms to get out of the house and be around other grown-ups! Kids can enjoy: \nTrampoline\nTumble track\nSpring floors\nRide on toys\nFoam pit\n& so much more!!! \n 
URL:https://letsgomommy.com/event/playdate-green-bay-elite-3/2024-02-23/
LOCATION:Green Bay Elite\, 1194 O'Hare Blvd\, De Pere\, WI\, 54115\, United States
GEO:44.452468;-88.1331244
X-APPLE-STRUCTURED-LOCATION;VALUE=URI;X-ADDRESS=Green Bay Elite 1194 O'Hare Blvd De Pere WI 54115 United States;X-APPLE-RADIUS=500;X-TITLE=1194 O'Hare Blvd:geo:-88.1331244,44.452468
END:VEVENT
BEGIN:VEVENT
DTSTART;TZID=America/Chicago:20240220T090000
DTEND;TZID=America/Chicago:20240220T103000
DTSTAMP:20260420T093828
CREATED:20240207T224158Z
LAST-MODIFIED:20240207T224202Z
UID:10036685-1708419600-1708425000@letsgomommy.com
SUMMARY:Playdate @ Green Bay Elite
DESCRIPTION:Join us on Tuesday & Friday mornings from 9-10:30 for the kids to play and moms to get out of the house and be around other grown-ups! Kids can enjoy: \nTrampoline\nTumble track\nSpring floors\nRide on toys\nFoam pit\n& so much more!!! \n 
URL:https://letsgomommy.com/event/playdate-green-bay-elite-3/2024-02-20/
LOCATION:Green Bay Elite\, 1194 O'Hare Blvd\, De Pere\, WI\, 54115\, United States
GEO:44.452468;-88.1331244
X-APPLE-STRUCTURED-LOCATION;VALUE=URI;X-ADDRESS=Green Bay Elite 1194 O'Hare Blvd De Pere WI 54115 United States;X-APPLE-RADIUS=500;X-TITLE=1194 O'Hare Blvd:geo:-88.1331244,44.452468
END:VEVENT
END:VCALENDAR